BEGIN:VCALENDAR
VERSION:2.0
PRODID:-//JJAT - ECPv6.15.20//NONSGML v1.0//EN
CALSCALE:GREGORIAN
METHOD:PUBLISH
X-ORIGINAL-URL:https://jjat.com
X-WR-CALDESC:Events for JJAT
REFRESH-INTERVAL;VALUE=DURATION:PT1H
X-Robots-Tag:noindex
X-PUBLISHED-TTL:PT1H
BEGIN:VTIMEZONE
TZID:America/Chicago
BEGIN:DAYLIGHT
TZOFFSETFROM:-0600
TZOFFSETTO:-0500
TZNAME:CDT
DTSTART:20230312T080000
END:DAYLIGHT
BEGIN:STANDARD
TZOFFSETFROM:-0500
TZOFFSETTO:-0600
TZNAME:CST
DTSTART:20231105T070000
END:STANDARD
BEGIN:DAYLIGHT
TZOFFSETFROM:-0600
TZOFFSETTO:-0500
TZNAME:CDT
DTSTART:20240310T080000
END:DAYLIGHT
BEGIN:STANDARD
TZOFFSETFROM:-0500
TZOFFSETTO:-0600
TZNAME:CST
DTSTART:20241103T070000
END:STANDARD
BEGIN:DAYLIGHT
TZOFFSETFROM:-0600
TZOFFSETTO:-0500
TZNAME:CDT
DTSTART:20250309T080000
END:DAYLIGHT
BEGIN:STANDARD
TZOFFSETFROM:-0500
TZOFFSETTO:-0600
TZNAME:CST
DTSTART:20251102T070000
END:STANDARD
END:VTIMEZONE
BEGIN:VEVENT
DTSTART;TZID=America/Chicago:20241027T153000
DTEND;TZID=America/Chicago:20241030T120000
DTSTAMP:20260421T173215
CREATED:20240514T201651Z
LAST-MODIFIED:20240514T201651Z
UID:2944-1730043000-1730289600@jjat.com
SUMMARY:Fall 2024 Conference
DESCRIPTION:The Fall JJAT Conference will be in Beautiful South Padre Island. \nFor the registration form follow this link .
URL:https://jjat.com/event/fall-2024-conference/
LOCATION:Isla Grand Beach Resort.\, 500 Padre Blvd.\, South Padre Island\, Texas\, 78597
END:VEVENT
END:VCALENDAR